BEGIN:VCALENDAR
VERSION:2.0
PRODID:-//Visit Manhattan - ECPv6.15.20//NONSGML v1.0//EN
CALSCALE:GREGORIAN
METHOD:PUBLISH
X-WR-CALNAME:Visit Manhattan
X-ORIGINAL-URL:https://visitmanhattan.nyc
X-WR-CALDESC:Events for Visit Manhattan
REFRESH-INTERVAL;VALUE=DURATION:PT1H
X-Robots-Tag:noindex
X-PUBLISHED-TTL:PT1H
BEGIN:VTIMEZONE
TZID:UTC
BEGIN:STANDARD
TZOFFSETFROM:+0000
TZOFFSETTO:+0000
TZNAME:UTC
DTSTART:20250101T000000
END:STANDARD
END:VTIMEZONE
BEGIN:VEVENT
DTSTART;TZID=UTC:20260117T100000
DTEND;TZID=UTC:20260620T183000
DTSTAMP:20260425T101918
CREATED:20260110T082417Z
LAST-MODIFIED:20260110T083035Z
UID:5162-1768644000-1781980200@visitmanhattan.nyc
SUMMARY:Jazz at Lincoln Center
DESCRIPTION:Jazz at Lincoln Center 2026 continues its role as a global home for jazz\, presenting a dynamic season of performances\, festivals\, competitions\, and educational programs in New York City. The 2025–26 season\, titled Mother Africa\, runs through June 20\, 2026\, and explores jazz’s deep connections to African musical traditions and the African diaspora through new commissions\, tributes\, and cross-generational collaborations. \nA major highlight of the year is Jazz Congress 2026\, held January 7–8 at Frederick P. Rose Hall. This annual gathering brings together jazz artists\, educators\, presenters\, media\, and industry leaders from around the world for panels\, workshops\, and conversations focused on expanding the future of jazz. \nThe Unity Jazz Festival\, taking place January 8–9\, 2026\, is a two-day celebration featuring more than 20 acclaimed artists and rising stars across multiple stages. The festival includes special tributes\, debut performances\, and the Jazz Legacies Fellowship Honors All-Star Concert\, showcasing masters and emerging voices side by side. \nEducation remains central to Jazz at Lincoln Center’s mission with the National Collegiate Jazz Championship on January 17–18\, 2026. Ten top college and university jazz ensembles compete in a two-day event that includes mentorship from members of the Jazz at Lincoln Center Orchestra and culminating performances in Rose Theater. \nThroughout 2026\, audiences can also enjoy nightly performances at Dizzy’s Club\, intimate concerts in The Appel Room\, and large-scale presentations in Rose Theater\, all located within Frederick P. Rose Hall at Broadway and 60th Street. Family concerts\, artist residencies\, and the Essentially Ellington High School Jazz Band Competition & Festival round out a season that balances legacy\, innovation\, and education. \nIn 2026\, Jazz at Lincoln Center continues to honor jazz’s history while shaping its future—bringing together world-class artists\, emerging talent\, and audiences from around the globe.
URL:https://visitmanhattan.nyc/events/jazz-at-lincoln-center
LOCATION:Broadway at 60th Street\, Broadway at 60th Street\, New York\, NY\, 10019\, United States
CATEGORIES:Concerts
ATTACH;FMTTYPE=image/jpeg:https://visitmanhattan.nyc/wp-content/uploads/2026/01/Lincoln-Center-Jazz.jpg
END:VEVENT
BEGIN:VEVENT
DTSTART;TZID=UTC:20260415T080000
DTEND;TZID=UTC:20260522T170000
DTSTAMP:20260425T101918
CREATED:20260415T200003Z
LAST-MODIFIED:20260415T200003Z
UID:5850-1776240000-1779469200@visitmanhattan.nyc
SUMMARY:April 11 – May 22: Spring Fling – Creative Corner Workshops
DESCRIPTION:The Shops at Columbus Circle hosts a weekly series of hands-on craft workshops this spring\, bringing together local studios for a rotating lineup of creative sessions. \nRunning every Wednesday from April 11 through May 22\, the Spring Fling Creative Corner takes place on the second floor and features activities such as floral arranging\, ceramic painting\, potting\, and DIY crafts. Each session is led by Upper West Side and Brooklyn-based studios\, with workshops designed for a wide range of ages and skill levels. \nThe program includes themed sessions like pressed floral tray making\, bag charm crafting\, and plant potting\, offering a mix of seasonal and practical projects. Complimentary tastings are provided during the events\, adding a casual social element to the experience. \nAdvance RSVP is required for each workshop. \nSchedule Highlights\nApril 15: Floral Arrangement Workshop\nApril 22: Pressed Floral Trinket Tray Workshop\nApril 29: Bag Charm Workshop\nMay 6: Pressed Floral Coaster Workshop\nMay 13: Pot Painting Workshop\nMay 20: Plant Potting Workshop
URL:https://visitmanhattan.nyc/events/spring-fling-creative-corner-workshops
LOCATION:The Shops at Columbus Circle\, The Shops at Columbus Circle\, New York
CATEGORIES:Events
ATTACH;FMTTYPE=image/png:https://visitmanhattan.nyc/wp-content/uploads/2026/04/Columbus-Circle-Spring-Fling-Visit-Manhattan.png
END:VEVENT
BEGIN:VEVENT
DTSTART;TZID=UTC:20260422T100000
DTEND;TZID=UTC:20260426T170000
DTSTAMP:20260425T101918
CREATED:20260415T193144Z
LAST-MODIFIED:20260415T193144Z
UID:5835-1776852000-1777222800@visitmanhattan.nyc
SUMMARY:April 22 – 26: The Photography Show Presented by AIPAD
DESCRIPTION:The Photography Show Presented by AIPAD returns to New York this April for its 45th edition\, bringing together galleries\, collectors\, artists\, and photography enthusiasts at the Park Avenue Armory. \nRunning from April 22 through April 26\, the fair is one of the city’s major annual photography events\, combining exhibitions\, live talks\, book signings\, and special programming across multiple days. Visitors can explore work from international exhibitors while also attending events connected to the AIPAD Talks Series and other in-booth presentations. \nThe show begins with a VIP Opening Preview on Wednesday\, followed by public fair days from Thursday through Sunday. A highlighted part of the programme is Night of Photography\, taking place on Friday evening in collaboration with the International Center for Photography\, and included with general admission. \nHeld at the historic Park Avenue Armory on the Upper East Side\, the event offers both a major art fair experience and a broader cultural programme for visitors interested in photography\, visual culture\, and collecting. Senior and student tickets are available\, and the venue is wheelchair accessible\, with assisted access available via East 66th Street. \nIn 2026\, The Photography Show continues to serve as a key destination on New York’s spring arts calendar\, bringing together contemporary and historic photography in a setting designed for both serious collectors and general visitors.
URL:https://visitmanhattan.nyc/events/photography-show-presented-by-aipad
LOCATION:643 Park Avenue\, 643 Park Avenue\, New York
CATEGORIES:Art
ATTACH;FMTTYPE=image/png:https://visitmanhattan.nyc/wp-content/uploads/2026/04/The-Photography-Show-from-AIPAD-Visit-Manhattan-copy.png
END:VEVENT
BEGIN:VEVENT
DTSTART;TZID=UTC:20260423T080000
DTEND;TZID=UTC:20260510T170000
DTSTAMP:20260425T101918
CREATED:20260415T194713Z
LAST-MODIFIED:20260415T194713Z
UID:5841-1776931200-1778432400@visitmanhattan.nyc
SUMMARY:April 23 – May 10: Macy’s Flower Show – “Homegrown”
DESCRIPTION:Macy’s Herald Square hosts its annual Flower Show this spring\, transforming the iconic department store into a large-scale floral installation inspired by American greenhouse culture. \nRunning from April 23 through May 10\, the 2026 edition—titled Homegrown—features immersive displays including towering planters\, stained-glass garden panels\, and yarn-wrapped trees spread throughout the store. Visitors can explore themed environments designed to highlight seasonal renewal\, blending retail space with visual storytelling and large-format floral design. \nThe experience includes interactive elements such as curated pathways\, themed installations\, and a dedicated collaboration with Valentino Beauty\, offering a multi-sensory floral concept built around fragrance and color. \nOpen during regular store hours\, the Flower Show is free to visit and remains one of New York’s most accessible seasonal attractions\, drawing both casual visitors and those specifically looking for spring-themed experiences in the city.
URL:https://visitmanhattan.nyc/events/macys-flower-show
LOCATION:Macy’s Herald Square\, Herald Square\, New York\, United States
CATEGORIES:Events
ATTACH;FMTTYPE=image/jpeg:https://visitmanhattan.nyc/wp-content/uploads/2026/04/Macys-Flower-Show-2026-Visit-Manhattan.jpg
END:VEVENT
BEGIN:VEVENT
DTSTART;TZID=UTC:20260423T100000
DTEND;TZID=UTC:20260425T180000
DTSTAMP:20260425T101918
CREATED:20260415T200420Z
LAST-MODIFIED:20260415T200420Z
UID:5852-1776938400-1777140000@visitmanhattan.nyc
SUMMARY:April 23 – 25: Grand Central Terminal Spring Food Festival
DESCRIPTION:Grand Central Terminal hosts a multi-day Spring Food Festival this April\, bringing together local food vendors and specialty brands inside Vanderbilt Hall. \nRunning from April 23 through April 25\, the event typically operates between 10:00 am and 6:00 pm daily\, though hours may vary slightly. Located near East 41st Street within the terminal\, the indoor setting ensures consistent foot traffic from both commuters and visitors. \nThe festival features a mix of NYC-based vendors offering prepared foods\, packaged goods\, and sampling opportunities. The format is designed around casual browsing and tasting\, making it a practical stop for visitors moving through Midtown. \nWith its central location and steady flow of traffic\, the event attracts a broad audience\, combining convenience with exposure to local food businesses.
URL:https://visitmanhattan.nyc/events/grand-central-terminal-spring-food-festival
LOCATION:Grand Central Terminal
CATEGORIES:Events
END:VEVENT
BEGIN:VEVENT
DTSTART;TZID=UTC:20260425T110000
DTEND;TZID=UTC:20260425T130000
DTSTAMP:20260425T101918
CREATED:20260415T195155Z
LAST-MODIFIED:20260415T195155Z
UID:5844-1777114800-1777122000@visitmanhattan.nyc
SUMMARY:April 25: Kids @ Grand Central x Rock & Roll Playhouse
DESCRIPTION:Grand Central Terminal hosts a family-focused music event this April\, bringing live entertainment and interactive activities to Vanderbilt Hall. \nTaking place on April 25\, the Rock & Roll Playhouse will present a Beatles-themed performance designed for children and families. The event combines live music with an interactive format\, encouraging kids to sing\, dance\, and engage with the show in a relaxed\, accessible environment. \nIn addition to the performance\, families can explore nearby food and retail options within the terminal\, including casual dining and snack spots\, making it a convenient weekend outing in Midtown. \nThe event is free to attend\, but advance RSVP is required\, and participants must complete a waiver during registration.
URL:https://visitmanhattan.nyc/events/kids-grand-central-x-rock-roll-playhouse
LOCATION:Grand Central Terminal
CATEGORIES:Concerts
ATTACH;FMTTYPE=image/png:https://visitmanhattan.nyc/wp-content/uploads/2026/04/Kids-Grand-Central-Visit-Manhattan.png
END:VEVENT
END:VCALENDAR